BEGIN:VCALENDAR
VERSION:2.0
PRODID:-//National Business Initiative - ECPv6.15.20//NONSGML v1.0//EN
CALSCALE:GREGORIAN
METHOD:PUBLISH
X-WR-CALNAME:National Business Initiative
X-ORIGINAL-URL:https://www.nbi.org.za
X-WR-CALDESC:Events for National Business Initiative
REFRESH-INTERVAL;VALUE=DURATION:PT1H
X-Robots-Tag:noindex
X-PUBLISHED-TTL:PT1H
BEGIN:VTIMEZONE
TZID:Africa/Johannesburg
BEGIN:STANDARD
TZOFFSETFROM:+0200
TZOFFSETTO:+0200
TZNAME:SAST
DTSTART:20250101T000000
END:STANDARD
END:VTIMEZONE
BEGIN:VEVENT
DTSTART;TZID=Africa/Johannesburg:20260421T093000
DTEND;TZID=Africa/Johannesburg:20260421T120000
DTSTAMP:20260421T030926
CREATED:20260331T100342Z
LAST-MODIFIED:20260416T122359Z
UID:26717-1776763800-1776772800@www.nbi.org.za
SUMMARY:NBI Member Only Event - Carbon Markets in Practice: What Companies Need to Know
DESCRIPTION:Dear Valued Stakeholder\, \nWe are pleased to invite you to join a high-level engagement focused on strengthening the private sector’s collective contribution to addressing Gender-Based Violence and Femicide (GBVF) in South Africa.     \n\n\n\n        \n    \n                                \n\n    \n    \n                    About the WE DARE Network            \n    \n\n\n\n\n        \n        The WE DARE Network is an international\, multi-stakeholder partnership bringing together researchers\, companies\, NGOs\, policymakers\, and practitioners united in the mission to eradicate GBV. Through collaboration\, digital innovation\, and knowledge sharing\, the Network advances whole of society solutions and supports meaningful partnerships that drive impact.     \n\n\n\n        \n    \n                                \n\n    \n    \n                    Why This Engagement Matters            \n    \n\n\n\n\n        \n        In December 2025\, President Cyril Ramaphosa declared GBVF a national disaster – underscoring the urgency of stronger\, coordinated action. While the private sector has often been perceived as silent\, our research and engagements reveal a different truth: many companies are taking action internally and within the communities they serve. However\, these efforts remain fragmented and largely invisible. \nThe WeDare GBV Repository was launched in September 2025 to contribute to a change in this position. It offers a central platform that captures corporate initiatives\, enables peer learning\, and strengthens accountability. Ultimately it supports Pillars 1 and 6 of the National Strategic Plan on GBV through coordinated knowledge management\, thought leadership and collective action.     \n\n        \n                    \n                \n                        \n        \n                        \n                        \n                        \n                    \n\n        \n    \n                                \n\n    \n    \n                    About the Event            \n    \n\n\n\n\n        \n        This in-person session will: \n\nHighlight the strategic value of the WeDare Repository for companies committed to tackling GBV.\nFeature a panel of experts presenting evidence-based insights on the scale of GBVF in South Africa and showcasing innovative private-sector responses.\nFacilitate meaningful dialogue on the power of shared learning\, data\, and partnerships in driving collective action.\nReceive a hands-on experience of the We Dare GBVF Repository.\n    \n\n        \n                        \n        \n                        \n                        \n                        \n                            \n                \n                    \n\n        \n    \n                                \n\n    \n    \n                    Growing the WeDare Community:            \n    \n\n\n\n\n        \n        A key objective of the session is to broaden corporate participation in the WeDare Community of Practice. Participating organisations will have the opportunity to signal their interest in contributing to the Repository. Companies opting in will receive one-on-one onboarding covering platform access\, UX\, and content guidelines. \nAs more companies come on board\, the WeDare Network will evolve into a robust membership ecosystem of role-players – strengthening collaboration between business\, policymakers\, civil society\, and academia\, and amplifying our collective influence in addressing GBVF.     \n\n        \n                    \n                \n                        \n        \n                        \n                        \n                        \n                    \n\n        \n    \n                                \n\n    \n    \n                    Event Details:            \n    \n\n\n\n\n        \n        This event is by invitation only.Date: Monday\, 04 May 2026Time: 09:00 for 09:30 to 12:30 (SAST)     \n\n        \n                        \n        \n                        \n                        \n                        \n                    \n\n        \n                        \n                                                AGENDA
URL:https://www.nbi.org.za/event/nbi-member-only-event-carbon-markets-in-practice-what-companies-need-to-know/
ATTACH;FMTTYPE=image/jpeg:https://www.nbi.org.za/wp-content/uploads/2026/03/Carbon-Markets-in-Practice-What-Companies-Need-to-Know.jpg
END:VEVENT
END:VCALENDAR