BEGIN:VCALENDAR
VERSION:2.0
PRODID:-//National Business Initiative - ECPv6.15.20//NONSGML v1.0//EN
CALSCALE:GREGORIAN
METHOD:PUBLISH
X-WR-CALNAME:National Business Initiative
X-ORIGINAL-URL:https://www.nbi.org.za
X-WR-CALDESC:Events for National Business Initiative
REFRESH-INTERVAL;VALUE=DURATION:PT1H
X-Robots-Tag:noindex
X-PUBLISHED-TTL:PT1H
BEGIN:VTIMEZONE
TZID:Africa/Johannesburg
BEGIN:STANDARD
TZOFFSETFROM:+0200
TZOFFSETTO:+0200
TZNAME:SAST
DTSTART:20150101T000000
END:STANDARD
END:VTIMEZONE
BEGIN:VEVENT
DTSTART;TZID=Africa/Johannesburg:20160405T090000
DTEND;TZID=Africa/Johannesburg:20160405T120000
DTSTAMP:20260425T020425
CREATED:20160610T101317Z
LAST-MODIFIED:20160610T101317Z
UID:17177-1459846800-1459857600@www.nbi.org.za
SUMMARY:NDP Solutions Workshop: TVET Colleges & Industry
DESCRIPTION:
URL:https://www.nbi.org.za/event/ndp-solutions-workshop-tvet-colleges-industry/
LOCATION:BP
CATEGORIES:Environmental Sustainability,Skills Development
END:VEVENT
END:VCALENDAR